BEGIN:VCALENDAR
VERSION:2.0
PRODID:-//Huron High School - ECPv6.15.10//NONSGML v1.0//EN
CALSCALE:GREGORIAN
METHOD:PUBLISH
X-WR-CALNAME:Huron High School
X-ORIGINAL-URL:https://huronedu.com
X-WR-CALDESC:Events for Huron High School
REFRESH-INTERVAL;VALUE=DURATION:PT1H
X-Robots-Tag:noindex
X-PUBLISHED-TTL:PT1H
BEGIN:VTIMEZONE
TZID:America/Toronto
BEGIN:DAYLIGHT
TZOFFSETFROM:-0500
TZOFFSETTO:-0400
TZNAME:EDT
DTSTART:20180311T070000
END:DAYLIGHT
BEGIN:STANDARD
TZOFFSETFROM:-0400
TZOFFSETTO:-0500
TZNAME:EST
DTSTART:20181104T060000
END:STANDARD
BEGIN:DAYLIGHT
TZOFFSETFROM:-0500
TZOFFSETTO:-0400
TZNAME:EDT
DTSTART:20190310T070000
END:DAYLIGHT
BEGIN:STANDARD
TZOFFSETFROM:-0400
TZOFFSETTO:-0500
TZNAME:EST
DTSTART:20191103T060000
END:STANDARD
BEGIN:DAYLIGHT
TZOFFSETFROM:-0500
TZOFFSETTO:-0400
TZNAME:EDT
DTSTART:20200308T070000
END:DAYLIGHT
BEGIN:STANDARD
TZOFFSETFROM:-0400
TZOFFSETTO:-0500
TZNAME:EST
DTSTART:20201101T060000
END:STANDARD
END:VTIMEZONE
BEGIN:VTIMEZONE
TZID:UTC
BEGIN:STANDARD
TZOFFSETFROM:+0000
TZOFFSETTO:+0000
TZNAME:UTC
DTSTART:20180101T000000
END:STANDARD
END:VTIMEZONE
BEGIN:VTIMEZONE
TZID:Asia/Shanghai
BEGIN:STANDARD
TZOFFSETFROM:+0800
TZOFFSETTO:+0800
TZNAME:CST
DTSTART:20180101T000000
END:STANDARD
END:VTIMEZONE
BEGIN:VEVENT
DTSTART;VALUE=DATE:20191225
DTEND;VALUE=DATE:20191226
DTSTAMP:20260423T124109
CREATED:20200312T164449Z
LAST-MODIFIED:20200312T164449Z
UID:6685-1577232000-1577318399@huronedu.com
SUMMARY:Art Festival: Applause for the Little Artists
DESCRIPTION:On the morning of December 17th\, surrounded by sparkling Christmas ambiance\, students visited the campus auditorium to celebrate our annual Art Festival.
URL:https://huronedu.com/event/art-festival-applause-for-the-little-artists/
END:VEVENT
BEGIN:VEVENT
DTSTART;TZID=UTC:20190607T130000
DTEND;TZID=UTC:20190607T170000
DTSTAMP:20260423T124109
CREATED:20180816T155533Z
LAST-MODIFIED:20200312T170100Z
UID:5986-1559912400-1559926800@huronedu.com
SUMMARY:Golf
DESCRIPTION:GolfGolfGolf
URL:https://huronedu.com/event/fintech-key-investment-conference/
LOCATION:Toronto\, toronto
CATEGORIES:Events
ATTACH;FMTTYPE=image/jpeg:https://huronedu.com/wp-content/uploads/2018/08/333.jpg
END:VEVENT
BEGIN:VEVENT
DTSTART;TZID=UTC:20190405T100000
DTEND;TZID=UTC:20190405T163000
DTSTAMP:20260423T124109
CREATED:20180816T155715Z
LAST-MODIFIED:20190401T124030Z
UID:5989-1554458400-1554481800@huronedu.com
SUMMARY:Student gathering
DESCRIPTION:Student gathering
URL:https://huronedu.com/event/kingsters-alumni-hot-air-ballon-trip-in-turkey/
LOCATION:Toronto\, toronto
CATEGORIES:Events
ATTACH;FMTTYPE=image/jpeg:https://huronedu.com/wp-content/uploads/2018/08/444.jpg
END:VEVENT
BEGIN:VEVENT
DTSTART;TZID=Asia/Shanghai:20190403T080000
DTEND;TZID=Asia/Shanghai:20190403T170000
DTSTAMP:20260423T124109
CREATED:20190331T085729Z
LAST-MODIFIED:20190401T123831Z
UID:6479-1554278400-1554310800@huronedu.com
SUMMARY:Spring tour
DESCRIPTION:Spring tourSpring tourSpring tour
URL:https://huronedu.com/event/chunyou/
CATEGORIES:Events
ATTACH;FMTTYPE=image/jpeg:https://huronedu.com/wp-content/uploads/2019/03/0.jpg
END:VEVENT
BEGIN:VEVENT
DTSTART;VALUE=DATE:20190403
DTEND;VALUE=DATE:20190404
DTSTAMP:20260423T124109
CREATED:20180816T160220Z
LAST-MODIFIED:20190401T123904Z
UID:5993-1554249600-1554335999@huronedu.com
SUMMARY:latest events
DESCRIPTION:latest eventslatest eventslatest events
URL:https://huronedu.com/event/kingsters-alumni-golf-tour/
LOCATION:Huron International College\, 424 Quebec Ave\, Huron Park\, Toronto
CATEGORIES:Events
ATTACH;FMTTYPE=image/jpeg:https://huronedu.com/wp-content/uploads/2018/08/fancycrave-270977-unsplash-1.jpg
ORGANIZER;CN="Kingster's Social Club":MAILTO:clubs@kingsteruni.edu
END:VEVENT
END:VCALENDAR